BEGIN:VCALENDAR
VERSION:2.0
PRODID:-//ASBB - ECPv4.8.1//NONSGML v1.0//EN
CALSCALE:GREGORIAN
METHOD:PUBLISH
X-WR-CALNAME:ASBB
X-ORIGINAL-URL:http://asbb.org.au
X-WR-CALDESC:Events for ASBB
BEGIN:VEVENT
DTSTART;VALUE=DATE:20190302
DTEND;VALUE=DATE:20190304
DTSTAMP:20190228T132742
CREATED:20181217T094907Z
LAST-MODIFIED:20181217T094907Z
UID:3133-1551484800-1551657599@asbb.org.au
SUMMARY:ACNEM – Primary modules in NEM\, Gastrointestinal Health
DESCRIPTION:\n\n	Related\n
URL:http://asbb.org.au/event/acnem-primary-modules-in-nem-gastrointestinal-health/
LOCATION:Hobart\, Australia
END:VEVENT
END:VCALENDAR