BEGIN:VCALENDAR
VERSION:2.0
PRODID:-//ASBB - ECPv4.8.1//NONSGML v1.0//EN
CALSCALE:GREGORIAN
METHOD:PUBLISH
X-WR-CALNAME:ASBB
X-ORIGINAL-URL:http://asbb.org.au
X-WR-CALDESC:Events for ASBB
BEGIN:VEVENT
DTSTART;VALUE=DATE:20190323
DTEND;VALUE=DATE:20190325
DTSTAMP:20190228T132918
CREATED:20181217T095050Z
LAST-MODIFIED:20181217T095050Z
UID:3136-1553299200-1553471999@asbb.org.au
SUMMARY:Mindd International Forum
DESCRIPTION:\n\n	Related\n
URL:http://asbb.org.au/event/mindd-international-forum/
LOCATION:Sydney\, Sydney
END:VEVENT
END:VCALENDAR