BEGIN:VCALENDAR
VERSION:2.0
PRODID:-//ASBB - ECPv4.8.1//NONSGML v1.0//EN
CALSCALE:GREGORIAN
METHOD:PUBLISH
X-WR-CALNAME:ASBB
X-ORIGINAL-URL:http://asbb.org.au
X-WR-CALDESC:Events for ASBB
BEGIN:VEVENT
DTSTART;VALUE=DATE:20190329
DTEND;VALUE=DATE:20190401
DTSTAMP:20190228T132943
CREATED:20181217T095235Z
LAST-MODIFIED:20181217T095235Z
UID:3138-1553817600-1554076799@asbb.org.au
SUMMARY:Perth Home Show
DESCRIPTION:\n\n	Related\n
URL:http://asbb.org.au/event/perth-home-show-3/
LOCATION:Perth
END:VEVENT
END:VCALENDAR