BEGIN:VCALENDAR
VERSION:2.0
PRODID:-//ASBB - ECPv4.8.1//NONSGML v1.0//EN
CALSCALE:GREGORIAN
METHOD:PUBLISH
X-WR-CALNAME:ASBB
X-ORIGINAL-URL:http://asbb.org.au
X-WR-CALDESC:Events for ASBB
BEGIN:VEVENT
DTSTART;TZID=UTC+10:20181028T080000
DTEND;TZID=UTC+10:20181029T170000
DTSTAMP:20190228T141412
CREATED:20171218T030845Z
LAST-MODIFIED:20171218T030845Z
UID:2624-1540713600-1540832400@asbb.org.au
SUMMARY:Conscious Life Festival - Sunshine Coast
DESCRIPTION:
URL:http://asbb.org.au/event/conscious-life-festival-sunshine-coast/
END:VEVENT
END:VCALENDAR