BEGIN:VCALENDAR
VERSION:2.0
PRODID:-//ASBB - ECPv4.8.1//NONSGML v1.0//EN
CALSCALE:GREGORIAN
METHOD:PUBLISH
X-WR-CALNAME:ASBB
X-ORIGINAL-URL:http://asbb.org.au
X-WR-CALDESC:Events for ASBB
BEGIN:VEVENT
DTSTART;VALUE=DATE:20190404
DTEND;VALUE=DATE:20190408
DTSTAMP:20190228T140005
CREATED:20181217T095723Z
LAST-MODIFIED:20181217T095723Z
UID:3144-1554336000-1554681599@asbb.org.au
SUMMARY:Mind Body Spirit Festival
DESCRIPTION:
URL:http://asbb.org.au/event/mind-body-spirit-festival/
LOCATION:Sydney\, Sydney
END:VEVENT
BEGIN:VEVENT
DTSTART;VALUE=DATE:20190404
DTEND;VALUE=DATE:20190408
DTSTAMP:20190228T140005
CREATED:20181217T095926Z
LAST-MODIFIED:20181217T095926Z
UID:3146-1554336000-1554681599@asbb.org.au
SUMMARY:ACES–Mould Testing Technician Course
DESCRIPTION:
URL:http://asbb.org.au/event/aces-mould-testing-technician-course-2/
LOCATION:Auckalnd\, NZ\, New Zealand
END:VEVENT
BEGIN:VEVENT
DTSTART;VALUE=DATE:20190404
DTEND;VALUE=DATE:20190408
DTSTAMP:20190228T140005
CREATED:20181217T100031Z
LAST-MODIFIED:20181217T100031Z
UID:3149-1554336000-1554681599@asbb.org.au
SUMMARY:Home Living Expo
DESCRIPTION:
URL:http://asbb.org.au/event/home-living-expo/
LOCATION:Adelaide\, Adelaide
END:VEVENT
BEGIN:VEVENT
DTSTART;VALUE=DATE:20190404
DTEND;VALUE=DATE:20190408
DTSTAMP:20190228T140005
CREATED:20181217T102938Z
LAST-MODIFIED:20181217T102938Z
UID:3178-1554336000-1554681599@asbb.org.au
SUMMARY:ACES – Mould Testing Training
DESCRIPTION:
URL:http://asbb.org.au/event/aces-mould-testing-training/
LOCATION:Auckalnd\, NZ\, New Zealand
END:VEVENT
END:VCALENDAR